BEGIN:VCALENDAR
VERSION:2.0
PRODID:-//Nassau Intergroup of A.A. - ECPv6.15.20//NONSGML v1.0//EN
CALSCALE:GREGORIAN
METHOD:PUBLISH
X-WR-CALNAME:Nassau Intergroup of A.A.
X-ORIGINAL-URL:https://nassauintergroup.org
X-WR-CALDESC:Events for Nassau Intergroup of A.A.
REFRESH-INTERVAL;VALUE=DURATION:PT1H
X-Robots-Tag:noindex
X-PUBLISHED-TTL:PT1H
BEGIN:VTIMEZONE
TZID:America/New_York
BEGIN:DAYLIGHT
TZOFFSETFROM:-0500
TZOFFSETTO:-0400
TZNAME:EDT
DTSTART:20220313T070000
END:DAYLIGHT
BEGIN:STANDARD
TZOFFSETFROM:-0400
TZOFFSETTO:-0500
TZNAME:EST
DTSTART:20221106T060000
END:STANDARD
BEGIN:DAYLIGHT
TZOFFSETFROM:-0500
TZOFFSETTO:-0400
TZNAME:EDT
DTSTART:20230312T070000
END:DAYLIGHT
BEGIN:STANDARD
TZOFFSETFROM:-0400
TZOFFSETTO:-0500
TZNAME:EST
DTSTART:20231105T060000
END:STANDARD
BEGIN:DAYLIGHT
TZOFFSETFROM:-0500
TZOFFSETTO:-0400
TZNAME:EDT
DTSTART:20240310T070000
END:DAYLIGHT
BEGIN:STANDARD
TZOFFSETFROM:-0400
TZOFFSETTO:-0500
TZNAME:EST
DTSTART:20241103T060000
END:STANDARD
END:VTIMEZONE
BEGIN:VEVENT
DTSTART;TZID=America/New_York:20231118T130000
DTEND;TZID=America/New_York:20231118T180000
DTSTAMP:20260420T110928
CREATED:20231105T145051Z
LAST-MODIFIED:20231105T145200Z
UID:10000957-1700312400-1700330400@nassauintergroup.org
SUMMARY:LICYPAA Friendly Feud
DESCRIPTION:
URL:https://nassauintergroup.org/event/licypaa-friendly-feud/
LOCATION:Thrive Nassau\, 1025 Old Country Rd. Suite #400\, Westbury\, NY\, 11590\, United States
ATTACH;FMTTYPE=image/png:https://nassauintergroup.org/wp-content/uploads/2023/11/Screenshot-2023-11-05-at-9.10.06 AM.png
END:VEVENT
END:VCALENDAR